BEGIN:VCALENDAR
VERSION:2.0
PRODID:-//ChamberMaster//Event Calendar 2.0//EN
METHOD:PUBLISH
X-PUBLISHED-TTL:P3D
REFRESH-INTERVAL:P3D
CALSCALE:GREGORIAN
BEGIN:VEVENT
DTSTART:20170301T003000Z
DTEND:20170301T003000Z
X-MICROSOFT-CDO-ALLDAYEVENT:FALSE
SUMMARY:English as a Second Language Class
DESCRIPTION:Open registration all year!\n\n\n	Seven Levels of English & Tutoring\n	Citizenship Preparation\n	Reading & Writing\n	Cultural Classes\n\n\n\nCertificates will be given to those who attend 20 hours or more!
X-ALT-DESC;FMTTYPE=text/html:<strong>Open registration all year!</strong>\n\n<ul>\n	<li>Seven Levels of English &amp\; Tutoring</li>\n	<li>Citizenship Preparation</li>\n	<li>Reading &amp\; Writing</li>\n	<li>Cultural Classes</li>\n</ul>\n<br />\n<strong>Certificates will be given to those who attend 20 hours or more!</strong>
LOCATION:First Baptist Church Stephenville Fellowship Hall 334 W. Green St.
UID:e.1545.3309
SEQUENCE:3
DTSTAMP:20260425T000517Z
URL:http://stephenvilletexas.chambermaster.com/events/details/english-as-a-second-language-class-02-28-2017-3309
END:VEVENT

END:VCALENDAR
